BEGIN:VCALENDAR
VERSION:2.0
PRODID:-//AudioTheme 1.7.1
BEGIN:VEVENT
UID:http://eva-zoellner.de/?post_type=audiotheme_gig&#038;p=1489
URL:https://www.eva-zoellner.de/concerts/hamburg-7/
DTSTART;TZID=GMT:20161006T180000
SUMMARY:Hamburg
LOCATION:Elektria-Hörlounge\, St. Johannis Harvestehude\, Hamburg\, \, Germany
END:VEVENT
END:VCALENDAR