BEGIN:VCALENDAR
VERSION:2.0
PRODID:-//AudioTheme 1.7.1
BEGIN:VEVENT
UID:http://eva-zoellner.de/?post_type=audiotheme_gig&#038;p=1550
URL:https://www.eva-zoellner.de/concerts/heidelberg-5/
DTSTART;TZID=GMT:20170305T180000
SUMMARY:Heidelberg
DESCRIPTION:G.F. Haas: Morgen und Abend
LOCATION:Theater Heidelberg\, Theaterstraße 10\, Heidelberg\, 
END:VEVENT
END:VCALENDAR