BEGIN:VCALENDAR
VERSION:2.0
PRODID:-//AudioTheme 1.7.1
BEGIN:VEVENT
UID:https://www.eva-zoellner.de/?post_type=audiotheme_gig&#038;p=4009
URL:https://www.eva-zoellner.de/concerts/helsinki/
DTSTART;VALUE=DATE:20240811
SUMMARY:Helsinki
DESCRIPTION:Zöllner-Roche-Duo
LOCATION:Flow Festival\, Helsinki\, \, Finland
END:VEVENT
END:VCALENDAR