BEGIN:VCALENDAR
VERSION:2.0
PRODID:-//AudioTheme 1.7.1
BEGIN:VEVENT
UID:http://eva-zoellner.de/?post_type=audiotheme_gig&#038;p=1298
URL:https://www.eva-zoellner.de/concerts/hfmt-hamburg/
DTSTART;TZID=GMT:20160617T103000
SUMMARY:HfMT Hamburg
DESCRIPTION:Komponisten-Workshop
LOCATION:Hochschule für Musik und Theater\, Hamburg\, \, Germany
END:VEVENT
END:VCALENDAR