BEGIN:VCALENDAR
VERSION:2.0
PRODID:-//AudioTheme 1.7.1
BEGIN:VEVENT
UID:http://www.eva-zoellner.de/?post_type=audiotheme_gig&#038;p=2335
URL:https://www.eva-zoellner.de/concerts/hofheim/
DTSTART;TZID=GMT:20200229T180000
SUMMARY:Hofheim
DESCRIPTION:Kohmann/Zöllner/Weiß
LOCATION:Krebsmühle Hofheim\, Hofheim\, 
END:VEVENT
END:VCALENDAR