BEGIN:VCALENDAR
VERSION:2.0
PRODID:-//AudioTheme 1.7.1
BEGIN:VEVENT
UID:http://www.eva-zoellner.de/?post_type=audiotheme_gig&#038;p=3418
URL:https://www.eva-zoellner.de/concerts/hohr-grenzhausen/
DTSTART;TZID=GMT:20220528T170000
SUMMARY:Höhr-Grenzhausen
DESCRIPTION:Lauschvisite #18: Wie über Ausschwitz erzählen?
LOCATION:Kultur-Kasino\, Höhr-Grenzhausen\, 
END:VEVENT
END:VCALENDAR