BEGIN:VCALENDAR
VERSION:2.0
PRODID:-//AudioTheme 1.7.1
BEGIN:VEVENT
UID:http://eva-zoellner.de/?post_type=audiotheme_gig&#038;p=1927
URL:https://www.eva-zoellner.de/concerts/huddersfield-uk/
DTSTART;TZID=GMT:20181119T223000
SUMMARY:Huddersfield, UK
DESCRIPTION:with Heather Roche\, cl.
LOCATION:Huddersfield Contemporary Music Festival\, Huddersfield\, \, England
END:VEVENT
END:VCALENDAR