BEGIN:VCALENDAR
VERSION:2.0
PRODID:-//AudioTheme 1.7.1
BEGIN:VEVENT
UID:http://www.eva-zoellner.de/?post_type=audiotheme_gig&#038;p=2477
URL:https://www.eva-zoellner.de/concerts/huddersfield/
DTSTART;VALUE=DATE:20201121
SUMMARY:Huddersfield
DESCRIPTION:CANCELLED Zöllner-Roche-Duo
LOCATION:Huddersfield Contemporary Music Festival\, Huddersfield\, \, England
END:VEVENT
END:VCALENDAR