BEGIN:VCALENDAR
VERSION:2.0
PRODID:-//AudioTheme 1.7.1
BEGIN:VEVENT
UID:http://www.eva-zoellner.de/?post_type=audiotheme_gig&#038;p=2307
URL:https://www.eva-zoellner.de/concerts/kaiserslautern/
DTSTART;TZID=GMT:20191102T090000
SUMMARY:Kaiserslautern
DESCRIPTION:Workshop: Neue Klänge auf dem Akkordeon
LOCATION:Emmerich-Smola-Musikschule und Musikakademie der Stadt Kaiserslautern\, Kaiserslautern\, \, Germany
END:VEVENT
END:VCALENDAR