BEGIN:VCALENDAR
VERSION:2.0
PRODID:-//AudioTheme 1.7.1
BEGIN:VEVENT
UID:https://www.eva-zoellner.de/?post_type=audiotheme_gig&#038;p=3710
URL:https://www.eva-zoellner.de/concerts/karlsruhe-2/
DTSTART;VALUE=DATE:20231114
SUMMARY:Karlsruhe
DESCRIPTION:Kompositionsworkshop
LOCATION:Hochschule für Musik Karlsruhe\, Karlsruhe\, \, Germany
END:VEVENT
END:VCALENDAR