BEGIN:VCALENDAR
VERSION:2.0
PRODID:-//AudioTheme 1.7.1
BEGIN:VEVENT
UID:https://www.eva-zoellner.de/?post_type=audiotheme_gig&#038;p=3790
URL:https://www.eva-zoellner.de/concerts/kassel-12/
DTSTART;TZID=GMT:20240112T183000
SUMMARY:Kassel
DESCRIPTION:Carlo Ciceri: L´Ultimon Sogno
LOCATION:Staatstheater Kassel\, Kassel\, \, Germany
END:VEVENT
END:VCALENDAR