BEGIN:VCALENDAR
VERSION:2.0
PRODID:-//AudioTheme 1.7.1
BEGIN:VEVENT
UID:http://eva-zoellner.de/?post_type=audiotheme_gig&#038;p=1922
URL:https://www.eva-zoellner.de/concerts/kassel-2/
DTSTART;TZID=GMT:20181111T170000
SUMMARY:Kassel
DESCRIPTION:solo
LOCATION:achtmal alte Brüderkirche\, Kassel\, \, Germany
END:VEVENT
END:VCALENDAR