BEGIN:VCALENDAR
VERSION:2.0
PRODID:-//AudioTheme 1.7.1
BEGIN:VEVENT
UID:http://eva-zoellner.de/?post_type=audiotheme_gig&#038;p=2134
URL:https://www.eva-zoellner.de/concerts/koblenz/
DTSTART;TZID=GMT:20190125T190000
SUMMARY:Koblenz
DESCRIPTION:Trio Kohmann/Zöllner/Weiß
LOCATION:FreiRaum\, Koblenz\, \, Germany
END:VEVENT
END:VCALENDAR