BEGIN:VCALENDAR
VERSION:2.0
PRODID:-//AudioTheme 1.7.1
BEGIN:VEVENT
UID:http://eva-zoellner.de/?post_type=audiotheme_gig&#038;p=1805
URL:https://www.eva-zoellner.de/concerts/koeln-2/
DTSTART;TZID=GMT:20180310T183000
SUMMARY:Köln
DESCRIPTION:Sammelsurien: Duo mit Frauke Aulbert
LOCATION:Kunst-Station St. Peter\, Köln\, 
END:VEVENT
END:VCALENDAR