BEGIN:VCALENDAR
VERSION:2.0
PRODID:-//AudioTheme 1.7.1
BEGIN:VEVENT
UID:http://eva-zoellner.de/?post_type=audiotheme_gig&#038;p=2029
URL:https://www.eva-zoellner.de/concerts/koeln-3/
DTSTART;TZID=GMT:20181110T120000
SUMMARY:Köln
DESCRIPTION:Solo
LOCATION:Kunststation Sankt Peter\, Köln\, \, Germany
END:VEVENT
END:VCALENDAR