BEGIN:VCALENDAR
VERSION:2.0
PRODID:-//AudioTheme 1.7.1
BEGIN:VEVENT
UID:http://www.eva-zoellner.de/?post_type=audiotheme_gig&#038;p=2251
URL:https://www.eva-zoellner.de/concerts/koeln-4/
DTSTART;TZID=GMT:20190831T110000
SUMMARY:Köln
DESCRIPTION:Lunchkonzert mit Verena Wüsthoff\, Blockflöten
LOCATION:Kunst-Station St. Peter\, Köln\, 
END:VEVENT
END:VCALENDAR