BEGIN:VCALENDAR
VERSION:2.0
PRODID:-//AudioTheme 1.7.1
BEGIN:VEVENT
UID:http://www.eva-zoellner.de/?post_type=audiotheme_gig&#038;p=2299
URL:https://www.eva-zoellner.de/concerts/koelner-dom/
DTSTART;TZID=GMT:20190926T190000
SUMMARY:Kölner Dom
DESCRIPTION:Nacht der Mystik
LOCATION:Kölner Dom\, Köln\, \, Germany
END:VEVENT
END:VCALENDAR