BEGIN:VCALENDAR
VERSION:2.0
PRODID:-//AudioTheme 1.7.1
BEGIN:VEVENT
UID:https://www.eva-zoellner.de/?post_type=audiotheme_gig&#038;p=3996
URL:https://www.eva-zoellner.de/concerts/koln-4/
DTSTART;TZID=GMT:20240712T180000
SUMMARY:Köln
DESCRIPTION:Tanz- und Musikperformance   mit Britta Lieberknecht\, Lilo Stahl und Harald Kimmig
LOCATION:Alte Feuerwache\, Köln\, 
END:VEVENT
END:VCALENDAR