BEGIN:VCALENDAR
VERSION:2.0
PRODID:-//AudioTheme 1.7.1
BEGIN:VEVENT
UID:https://www.eva-zoellner.de/?post_type=audiotheme_gig&#038;p=3998
URL:https://www.eva-zoellner.de/concerts/koln-6/
DTSTART;TZID=GMT:20240714T160000
SUMMARY:Köln
DESCRIPTION:Tanz- und Musikperformance 
LOCATION:Alte Feuerwache\, Köln\, 
END:VEVENT
END:VCALENDAR