BEGIN:VCALENDAR
VERSION:2.0
PRODID:-//AudioTheme 1.7.1
BEGIN:VEVENT
UID:http://eva-zoellner.de/?post_type=audiotheme_gig&#038;p=2053
URL:https://www.eva-zoellner.de/concerts/kontrapunkte-speyer/
DTSTART;TZID=GMT:20190331T160000
SUMMARY:Kontrapunkte Speyer
DESCRIPTION:Windspiel
LOCATION:Kontrapunkte Speyer\, Speyer\, \, Germany
END:VEVENT
END:VCALENDAR