BEGIN:VCALENDAR
VERSION:2.0
PRODID:-//AudioTheme 1.7.1
BEGIN:VEVENT
UID:http://www.eva-zoellner.de/?post_type=audiotheme_gig&#038;p=3300
URL:https://www.eva-zoellner.de/concerts/lauschvisite-14/
DTSTART;TZID=GMT:20210626T173000
SUMMARY:Lauschvisite #14
DESCRIPTION:mit Sabine Vogel\, Flöte & Stefan Kohmann\, Vibraphon
LOCATION:Atelier Farbform\, Montabaur\, \, Germany
END:VEVENT
END:VCALENDAR