BEGIN:VCALENDAR
VERSION:2.0
PRODID:-//AudioTheme 1.7.1
BEGIN:VEVENT
UID:http://www.eva-zoellner.de/?post_type=audiotheme_gig&#038;p=2545
URL:https://www.eva-zoellner.de/concerts/lauschvisite-2/
DTSTART;VALUE=DATE:20210903
SUMMARY:Lauschvisite
DESCRIPTION:Lauschvisite: Zöllner-Roche-Duo & Nina de Heney
LOCATION:Keramikmuseum Höhr-Grenzhausen\, Höhr-Grenzhausen\, 
END:VEVENT
END:VCALENDAR