BEGIN:VCALENDAR
VERSION:2.0
PRODID:-//AudioTheme 1.7.1
BEGIN:VEVENT
UID:https://www.eva-zoellner.de/?post_type=audiotheme_gig&#038;p=4021
URL:https://www.eva-zoellner.de/concerts/lauschvisite-29/
DTSTART;TZID=GMT:20240901T160000
SUMMARY:Lauschvisite #29
DESCRIPTION:Zöllner/Kohmann/Seyler Akkordeon & Schlagwerk
LOCATION:Sayner Hütte\, Bendorf-Sayn\, \, Germany
END:VEVENT
END:VCALENDAR