BEGIN:VCALENDAR
VERSION:2.0
PRODID:-//AudioTheme 1.7.1
BEGIN:VEVENT
UID:http://www.eva-zoellner.de/?post_type=audiotheme_gig&#038;p=2427
URL:https://www.eva-zoellner.de/concerts/lauschvisite-extra-in-bendorf/
DTSTART;VALUE=DATE:20200614
SUMMARY:Lauschvisite extra in Bendorf
DESCRIPTION:CORONZERTE für vier Ohren
LOCATION:Direktorenhaus Sayner Hütte\, Bendorf Sayn\, \, Germany
END:VEVENT
END:VCALENDAR