BEGIN:VCALENDAR
VERSION:2.0
PRODID:-//AudioTheme 1.7.1
BEGIN:VEVENT
UID:http://www.eva-zoellner.de/?post_type=audiotheme_gig&#038;p=2426
URL:https://www.eva-zoellner.de/concerts/lauschvisite-extra-in-montabaur/
DTSTART;VALUE=DATE:20200611
SUMMARY:Lauschvisite extra in Montabaur
DESCRIPTION:Kulturspritze - eine Dosis Musik gegen die Krise
LOCATION:Atelier Farbform\, Montabaur\, \, Germany
END:VEVENT
END:VCALENDAR