BEGIN:VCALENDAR
VERSION:2.0
PRODID:-//AudioTheme 1.7.1
BEGIN:VEVENT
UID:http://www.eva-zoellner.de/?post_type=audiotheme_gig&#038;p=2373
URL:https://www.eva-zoellner.de/concerts/lauschvisite-montabaur-2/
DTSTART;TZID=GMT:20200829T170000
SUMMARY:Lauschvisite Montabaur
DESCRIPTION:Kohmann/Zöllner/Weiß
LOCATION:Atelier Farbform\, Montabaur\, \, Germany
END:VEVENT
END:VCALENDAR