BEGIN:VCALENDAR
VERSION:2.0
PRODID:-//AudioTheme 1.7.1
BEGIN:VEVENT
UID:http://www.eva-zoellner.de/?post_type=audiotheme_gig&#038;p=2262
URL:https://www.eva-zoellner.de/concerts/lauschvisite-montabaur/
DTSTART;TZID=GMT:20191119T183000
SUMMARY:Lauschvisite Montabaur
DESCRIPTION:Ferne.Nähe. Kammermusik mit Akkordeon
LOCATION:Historica-Gewölbe\, Montabaur\, \, Germany
END:VEVENT
END:VCALENDAR