BEGIN:VCALENDAR
VERSION:2.0
PRODID:-//AudioTheme 1.7.1
BEGIN:VEVENT
UID:http://www.eva-zoellner.de/?post_type=audiotheme_gig&#038;p=2337
URL:https://www.eva-zoellner.de/concerts/levande-musik-goeteborg/
DTSTART;TZID=GMT:20200318T180000
SUMMARY:Levande Musik Göteborg
DESCRIPTION:CANCELLED Zöllner-Roche-Duo: The Mechanics of Breath
LOCATION:Levande Musik Göteborg\, Göteborg\, 
END:VEVENT
END:VCALENDAR