BEGIN:VCALENDAR
VERSION:2.0
PRODID:-//AudioTheme 1.7.1
BEGIN:VEVENT
UID:http://www.eva-zoellner.de/?post_type=audiotheme_gig&#038;p=2328
URL:https://www.eva-zoellner.de/concerts/london/
DTSTART;TZID=GMT:20200221T100000
SUMMARY:London
DESCRIPTION:composers workshop
LOCATION:City University London\, London\, 
END:VEVENT
END:VCALENDAR