BEGIN:VCALENDAR
VERSION:2.0
PRODID:-//AudioTheme 1.7.1
BEGIN:VEVENT
UID:http://www.eva-zoellner.de/?post_type=audiotheme_gig&#038;p=2341
URL:https://www.eva-zoellner.de/concerts/lund-sweden/
DTSTART;TZID=GMT:20200315T160000
SUMMARY:Lund, Sweden
DESCRIPTION:CANCELLED Zöllner-Roche-Duo: The Mechanics of Breath
LOCATION:Allahelgonakyrkan Lund\, Lund\, \, Sweden
END:VEVENT
END:VCALENDAR