BEGIN:VCALENDAR
VERSION:2.0
PRODID:-//AudioTheme 1.7.1
BEGIN:VEVENT
UID:http://eva-zoellner.de/?post_type=audiotheme_gig&#038;p=2132
URL:https://www.eva-zoellner.de/concerts/mainz-2/
DTSTART;TZID=GMT:20190628T180000
SUMMARY:Mainz
DESCRIPTION:Heimat - Soloprojekt
LOCATION:Atelier Christiane Schauder\, Mainz\, \, Germany
END:VEVENT
END:VCALENDAR