BEGIN:VCALENDAR
VERSION:2.0
PRODID:-//AudioTheme 1.7.1
BEGIN:VEVENT
UID:https://www.eva-zoellner.de/?post_type=audiotheme_gig&#038;p=3986
URL:https://www.eva-zoellner.de/concerts/mainz-3/
DTSTART;TZID=GMT:20240604T160000
SUMMARY:Mainz
DESCRIPTION:Eva Zöllner & Stefan Pohlit: Neue Musik für Akkordeon und Santur
LOCATION:Akademie der Wissenschaften und der Literatur\, Mainz\, 
END:VEVENT
END:VCALENDAR