BEGIN:VCALENDAR
VERSION:2.0
PRODID:-//AudioTheme 1.7.1
BEGIN:VEVENT
UID:http://eva-zoellner.de/?post_type=audiotheme_gig&#038;p=2050
URL:https://www.eva-zoellner.de/concerts/marina-abramovic-anders-hoeren/
DTSTART;TZID=GMT:20190324T140000
SUMMARY:Alte Oper Frankfurt
DESCRIPTION:Marina Abramovic - Anders Hören
LOCATION:Alte Oper\, Frankfurt\, \, Germany
END:VEVENT
END:VCALENDAR