BEGIN:VCALENDAR
VERSION:2.0
PRODID:-//AudioTheme 1.7.1
BEGIN:VEVENT
UID:http://www.eva-zoellner.de/?post_type=audiotheme_gig&#038;p=2249
URL:https://www.eva-zoellner.de/concerts/medellin-co/
DTSTART;TZID=GMT:20190813T003000
SUMMARY:Medellin, CO
DESCRIPTION:accordion & strings
LOCATION:EAFIT\, Medellin\, \, Colombia
END:VEVENT
END:VCALENDAR