BEGIN:VCALENDAR
VERSION:2.0
PRODID:-//AudioTheme 1.7.1
BEGIN:VEVENT
UID:http://www.eva-zoellner.de/?post_type=audiotheme_gig&#038;p=2313
URL:https://www.eva-zoellner.de/concerts/merida-mx/
DTSTART;TZID=GMT:20191205T020000
SUMMARY:Mérida, MX
DESCRIPTION:Zöllner-Roche-Duo Mexico Tour 2019
LOCATION:Palacio de la Música\, Mérida\, \, Mexico
END:VEVENT
END:VCALENDAR