BEGIN:VCALENDAR
VERSION:2.0
PRODID:-//AudioTheme 1.7.1
BEGIN:VEVENT
UID:http://eva-zoellner.de/?post_type=audiotheme_gig&#038;p=1506
URL:https://www.eva-zoellner.de/concerts/merida/
DTSTART;TZID=GMT:20161120T020000
SUMMARY:Merida
DESCRIPTION:caja de viento: solo & electronics
LOCATION:La Rendija Teatro\, Calle 50 466 por 51\, Centro\, 97000 Mérida\, Yuc.\, Mexiko\, Merida\, \, Mexico
END:VEVENT
END:VCALENDAR