BEGIN:VCALENDAR
VERSION:2.0
PRODID:-//AudioTheme 1.7.1
BEGIN:VEVENT
UID:http://www.eva-zoellner.de/?post_type=audiotheme_gig&#038;p=3195
URL:https://www.eva-zoellner.de/concerts/mexico-city-10/
DTSTART;TZID=GMT:20210402T000000
SUMMARY:Mexico City
DESCRIPTION:solo
LOCATION:Festival Expresiones Contemporáneas\, Mexico City\, 
END:VEVENT
END:VCALENDAR