BEGIN:VCALENDAR
VERSION:2.0
PRODID:-//AudioTheme 1.7.1
BEGIN:VEVENT
UID:http://www.eva-zoellner.de/?post_type=audiotheme_gig&#038;p=2267
URL:https://www.eva-zoellner.de/concerts/mexico-city-9/
DTSTART;VALUE=DATE:20191127
SUMMARY:Mexico City
DESCRIPTION:Zöllner-Roche-Duo Mexico Tour 2019
LOCATION:Ex Teresa Arte Actual\, Mexico City\, 
END:VEVENT
END:VCALENDAR