BEGIN:VCALENDAR
VERSION:2.0
PRODID:-//AudioTheme 1.7.1
BEGIN:VEVENT
UID:http://eva-zoellner.de/?post_type=audiotheme_gig&#038;p=1924
URL:https://www.eva-zoellner.de/concerts/montabaur-4/
DTSTART;TZID=GMT:20181127T183000
SUMMARY:Montabaur
DESCRIPTION:Lauschvisite #7: Collect/Project
LOCATION:Historica-Gewölbe\, Montabaur\, \, Germany
END:VEVENT
END:VCALENDAR