BEGIN:VCALENDAR
VERSION:2.0
PRODID:-//AudioTheme 1.7.1
BEGIN:VEVENT
UID:http://eva-zoellner.de/?post_type=audiotheme_gig&#038;p=2194
URL:https://www.eva-zoellner.de/concerts/montabaur-5/
DTSTART;TZID=GMT:20190510T173000
SUMMARY:Montabaur
DESCRIPTION:Bunker-Session: Ehsan Ebrahimi\, Santur & E. Zöllner
LOCATION:b-05 Kunst und Kulturzentrum\, Montabaur\, 
END:VEVENT
END:VCALENDAR