BEGIN:VCALENDAR
VERSION:2.0
PRODID:-//AudioTheme 1.7.1
BEGIN:VEVENT
UID:http://eva-zoellner.de/?post_type=audiotheme_gig&#038;p=1444
URL:https://www.eva-zoellner.de/concerts/morelia-2/
DTSTART;VALUE=DATE:20161111
SUMMARY:Morelia
DESCRIPTION:composers workshop
LOCATION:Conservatorio de Las Rosas\, Morelia\, \, Mexico
END:VEVENT
END:VCALENDAR