BEGIN:VCALENDAR
VERSION:2.0
PRODID:-//AudioTheme 1.7.1
BEGIN:VEVENT
UID:http://www.eva-zoellner.de/?post_type=audiotheme_gig&#038;p=2263
URL:https://www.eva-zoellner.de/concerts/morelia-mx/
DTSTART;TZID=GMT:20191130T020000
SUMMARY:Morelia, MX
DESCRIPTION:Zöllner-Roche-Duo Mexico Tour 2019
LOCATION:CMMAS\, Morelia\, \, Mexico
END:VEVENT
END:VCALENDAR