BEGIN:VCALENDAR
VERSION:2.0
PRODID:-//AudioTheme 1.7.1
BEGIN:VEVENT
UID:http://eva-zoellner.de/?post_type=audiotheme_gig&#038;p=1317
URL:https://www.eva-zoellner.de/concerts/morelia/
DTSTART;TZID=GMT:20161112T020000
SUMMARY:Morelia
DESCRIPTION:caja de viento: solo & electronics
LOCATION:CMMAS\, Morelia\, \, Mexico
END:VEVENT
END:VCALENDAR