BEGIN:VCALENDAR
VERSION:2.0
PRODID:-//AudioTheme 1.7.1
BEGIN:VEVENT
UID:http://eva-zoellner.de/?post_type=audiotheme_gig&#038;p=1416
URL:https://www.eva-zoellner.de/concerts/muenchen-2/
DTSTART;TZID=GMT:20161124T183000
SUMMARY:München
DESCRIPTION:contrapunkt Mexiko
LOCATION:Goethe-Institut München\, München\, \, Germany
END:VEVENT
END:VCALENDAR