BEGIN:VCALENDAR
VERSION:2.0
PRODID:-//AudioTheme 1.7.1
BEGIN:VEVENT
UID:http://eva-zoellner.de/?post_type=audiotheme_gig&#038;p=1360
URL:https://www.eva-zoellner.de/concerts/muenchen/
DTSTART;TZID=GMT:20160428T173000
SUMMARY:München
DESCRIPTION:"contrapunkt Polen" 
LOCATION:Goethe-Institut München\, München\, \, Germany
END:VEVENT
END:VCALENDAR