BEGIN:VCALENDAR
VERSION:2.0
PRODID:-//AudioTheme 1.7.1
BEGIN:VEVENT
UID:https://www.eva-zoellner.de/?post_type=audiotheme_gig&#038;p=4139
URL:https://www.eva-zoellner.de/concerts/multiphonics-festival-koln/
DTSTART;TZID=GMT:20251012T160000
SUMMARY:Multiphonics Festival Köln
DESCRIPTION:Beyond the Roots Large Ensemble
LOCATION:Multiphonics Festival\, Köln\, \, Germany
END:VEVENT
END:VCALENDAR