BEGIN:VCALENDAR
VERSION:2.0
PRODID:-//AudioTheme 1.7.1
BEGIN:VEVENT
UID:http://eva-zoellner.de/?post_type=audiotheme_gig&#038;p=2092
URL:https://www.eva-zoellner.de/concerts/musik-im-garten/
DTSTART;TZID=GMT:20190512T130000
SUMMARY:Musik im Garten
DESCRIPTION:mit dem Jugendensemble Neue Musik Rheinland-Pfalz/Saar
LOCATION:Schwetzinger Festspiele\, Schwetzingen\, 
END:VEVENT
END:VCALENDAR