BEGIN:VCALENDAR
VERSION:2.0
PRODID:-//AudioTheme 1.7.1
BEGIN:VEVENT
UID:http://www.eva-zoellner.de/?post_type=audiotheme_gig&#038;p=2447
URL:https://www.eva-zoellner.de/concerts/neue-musik-im-flaeming/
DTSTART;TZID=GMT:20200920T150000
SUMMARY:Neue Musik im Fläming
DESCRIPTION:solo
LOCATION:Neue Musik im Fläming\, Jeber-Bergfrieden\, \, Germany
END:VEVENT
END:VCALENDAR