BEGIN:VCALENDAR
VERSION:2.0
PRODID:-//AudioTheme 1.7.1
BEGIN:VEVENT
UID:http://eva-zoellner.de/?post_type=audiotheme_gig&#038;p=1919
URL:https://www.eva-zoellner.de/concerts/nuernberg-4/
DTSTART;VALUE=DATE:20181101
SUMMARY:Nürnberg
DESCRIPTION:Meisterkurs
LOCATION:Hochschule für Musik Nürnberg\, Nürnberg\, 
END:VEVENT
END:VCALENDAR