BEGIN:VCALENDAR
VERSION:2.0
PRODID:-//AudioTheme 1.7.1
BEGIN:VEVENT
UID:https://www.eva-zoellner.de/?post_type=audiotheme_gig&#038;p=4121
URL:https://www.eva-zoellner.de/concerts/oslo/
DTSTART;TZID=GMT:20250823T160000
SUMMARY:Oslo
DESCRIPTION:Zöllner Roche Duo performs musik by Martin Rane Bauck
LOCATION:Mausoleum\, Oslo\, 
END:VEVENT
END:VCALENDAR